BEGIN:VCALENDAR
VERSION:2.0
PRODID:-//The Cookery Dallas - ECPv6.15.14//NONSGML v1.0//EN
CALSCALE:GREGORIAN
METHOD:PUBLISH
X-WR-CALNAME:The Cookery Dallas
X-ORIGINAL-URL:https://www.thecookerydallas.com
X-WR-CALDESC:Events for The Cookery Dallas
REFRESH-INTERVAL;VALUE=DURATION:PT1H
X-Robots-Tag:noindex
X-PUBLISHED-TTL:PT1H
BEGIN:VTIMEZONE
TZID:America/New_York
BEGIN:DAYLIGHT
TZOFFSETFROM:-0500
TZOFFSETTO:-0400
TZNAME:EDT
DTSTART:20240310T070000
END:DAYLIGHT
BEGIN:STANDARD
TZOFFSETFROM:-0400
TZOFFSETTO:-0500
TZNAME:EST
DTSTART:20241103T060000
END:STANDARD
BEGIN:DAYLIGHT
TZOFFSETFROM:-0500
TZOFFSETTO:-0400
TZNAME:EDT
DTSTART:20250309T070000
END:DAYLIGHT
BEGIN:STANDARD
TZOFFSETFROM:-0400
TZOFFSETTO:-0500
TZNAME:EST
DTSTART:20251102T060000
END:STANDARD
BEGIN:DAYLIGHT
TZOFFSETFROM:-0500
TZOFFSETTO:-0400
TZNAME:EDT
DTSTART:20260308T070000
END:DAYLIGHT
BEGIN:STANDARD
TZOFFSETFROM:-0400
TZOFFSETTO:-0500
TZNAME:EST
DTSTART:20261101T060000
END:STANDARD
END:VTIMEZONE
BEGIN:VEVENT
DTSTART;TZID=America/New_York:20250911T183000
DTEND;TZID=America/New_York:20250911T213000
DTSTAMP:20260421T044901
CREATED:20250805T071837Z
LAST-MODIFIED:20250805T071837Z
UID:10000834-1757615400-1757626200@www.thecookerydallas.com
SUMMARY:Seasonal Favorites: Fall
DESCRIPTION:First Course:\n\nSeasonal Roasted Root Vegetable Bisque & Spicy Chickpea Croutons\n\nSecond Course:\n\nCinnamon Cocoa Spice Roasted Pork Tenderloin & Shallot Port Wine Reduction\nPan-Roasted Heirloom Carrots With Honey & Thyme\nRoasted Garlic Cauliflower “Mashed Potatoes”\n\nThird Course:\n\nApple & Pear Almond Flour Crumble With Vanilla Bean Whipped Cream\n\nTo Drink:\n\nChai Spiced Old Fashioned & Wine Pairings\n\n*This Class Contains Nuts & Dairy*
URL:https://www.thecookerydallas.com/event/seasonal-favorites-fall9-11-25
LOCATION:The Cookery Dallas\, 1130 Dragon Street Suite 180\, Dallas\, TX\, 75207\, United States
CATEGORIES:Seasonal
ATTACH;FMTTYPE=image/webp:https://www.thecookerydallas.com/wp-content/uploads/Fall-Seasonal-Favorites.webp
END:VEVENT
END:VCALENDAR