BEGIN:VCALENDAR
VERSION:2.0
PRODID:-//The Cookery Dallas - ECPv6.15.14//NONSGML v1.0//EN
CALSCALE:GREGORIAN
METHOD:PUBLISH
X-WR-CALNAME:The Cookery Dallas
X-ORIGINAL-URL:https://www.thecookerydallas.com
X-WR-CALDESC:Events for The Cookery Dallas
REFRESH-INTERVAL;VALUE=DURATION:PT1H
X-Robots-Tag:noindex
X-PUBLISHED-TTL:PT1H
BEGIN:VTIMEZONE
TZID:America/Chicago
BEGIN:DAYLIGHT
TZOFFSETFROM:-0600
TZOFFSETTO:-0500
TZNAME:CDT
DTSTART:20250309T080000
END:DAYLIGHT
BEGIN:STANDARD
TZOFFSETFROM:-0500
TZOFFSETTO:-0600
TZNAME:CST
DTSTART:20251102T070000
END:STANDARD
BEGIN:DAYLIGHT
TZOFFSETFROM:-0600
TZOFFSETTO:-0500
TZNAME:CDT
DTSTART:20260308T080000
END:DAYLIGHT
BEGIN:STANDARD
TZOFFSETFROM:-0500
TZOFFSETTO:-0600
TZNAME:CST
DTSTART:20261101T070000
END:STANDARD
BEGIN:DAYLIGHT
TZOFFSETFROM:-0600
TZOFFSETTO:-0500
TZNAME:CDT
DTSTART:20270314T080000
END:DAYLIGHT
BEGIN:STANDARD
TZOFFSETFROM:-0500
TZOFFSETTO:-0600
TZNAME:CST
DTSTART:20271107T070000
END:STANDARD
END:VTIMEZONE
BEGIN:VEVENT
DTSTART;TZID=America/Chicago:20260515T183000
DTEND;TZID=America/Chicago:20260515T213000
DTSTAMP:20260420T025647
CREATED:20260406T215921Z
LAST-MODIFIED:20260406T215921Z
UID:10001121-1778869800-1778880600@www.thecookerydallas.com
SUMMARY:Cocina Latina
DESCRIPTION:Come and join us for a class of Latin-inspired food and drink!\n\nFirst Course:\nChicken Tortilla Soup with Oven Baked Crispy Corn Tortillas Strips\n\nSecond Course:\nPork Carnitas in Mojo Marinade\nRoasted Poblano and Avocado Salsa\nPickled Onions with Jalapenos\nHomemade Flour Tortillas\nCilantro Lime Rice\n\nThird Course:\nMexican Hot Chocolate Ice Cream\n\nTo Drink:\nCucumber and Jalapeño Scratch Margarita with Tajín\nMexican Beer and Wine Pairings
URL:https://www.thecookerydallas.com/event/cocina-latina-5-15
LOCATION:The Cookery Dallas\, 1130 Dragon Street Suite 180\, Dallas\, TX\, 75207\, United States
CATEGORIES:International
ATTACH;FMTTYPE=image/jpeg:https://www.thecookerydallas.com/wp-content/uploads/IMG_7848.jpg
END:VEVENT
BEGIN:VEVENT
DTSTART;TZID=America/Chicago:20260516T120000
DTEND;TZID=America/Chicago:20260516T150000
DTSTAMP:20260420T025647
CREATED:20260406T220258Z
LAST-MODIFIED:20260410T025531Z
UID:10001122-1778932800-1778943600@www.thecookerydallas.com
SUMMARY:Coastal Cuisine
DESCRIPTION:Dive into the flavors of the seaside where you'll learn to master fresh seafood dishes inspired by the ocean's bounty. From perfectly seared fish to zesty\, herb-infused sauces\, discover the secrets to creating this vibrant\, coastal-inspired meal at home. \n\nFirst Course:\nShrimp Cocktail with Homemade Remoulade Sauce and Fresh Horseradish\nCheesy Garlic Drop Biscuits\n\nSecond Course:\nCrispy-Skin Salmon Drizzled with Miso Gastrique\nPearl Couscous with Lemon and Herbs\nRoasted Zucchini Ribbons \n\nThird Course:\nLemon Pudding Soufflé \n\nTo Drink:\nGin Gimlet and Wine Pairings\n\n*This Class Contains Dairy\, Gluten\, Fish\, and Shellfish*
URL:https://www.thecookerydallas.com/event/coastal-cuisine-5-16
LOCATION:The Cookery Dallas\, 1130 Dragon Street Suite 180\, Dallas\, TX\, 75207\, United States
CATEGORIES:American
ATTACH;FMTTYPE=image/jpeg:https://www.thecookerydallas.com/wp-content/uploads/CostalCuisineSecondCourse.jpg
END:VEVENT
BEGIN:VEVENT
DTSTART;TZID=America/Chicago:20260516T180000
DTEND;TZID=America/Chicago:20260516T210000
DTSTAMP:20260420T025647
CREATED:20260406T220544Z
LAST-MODIFIED:20260406T220544Z
UID:10001123-1778954400-1778965200@www.thecookerydallas.com
SUMMARY:Sushi Arigato
DESCRIPTION:Sushi lovers unite at The Cookery Dallas in an unforgettable class dedicated to this delicate Japanese cuisine. Guests will enjoy sake and beer tastings as they master the art of their favorite hand rolls\, sashimi\, appetizers and more.\n\nFirst Course:\nSautéed Sesame Shishito Peppers\nFreshly Sliced Salmon Sashimi + Homemade Ponzu Sauce\nStuffed Inari Pockets\nHomemade Dashi Stock Miso Soup\n\nSecond Course:\nSpicy Tuna Two Ways + Poke\nEndless Maki Rolls\, Inside Out Rolls\, & Hand Rolls\nShrimp Nigiri\nSurimi (Krab)\, Yellowfin Tuna\, Salmon &  Assorted Vegetables\nGinger & Wasabi\n\nTo Drink:\nWine\, Japanese Beer & Sake\n\n*This class contains Shellfish and Gluten*
URL:https://www.thecookerydallas.com/event/sushi-arigato-5-16
LOCATION:The Cookery Dallas\, 1130 Dragon Street Suite 180\, Dallas\, TX\, 75207\, United States
CATEGORIES:International
ATTACH;FMTTYPE=image/webp:https://www.thecookerydallas.com/wp-content/uploads/Sushi-Arigato.webp
END:VEVENT
BEGIN:VEVENT
DTSTART;TZID=America/Chicago:20260517T120000
DTEND;TZID=America/Chicago:20260517T150000
DTSTAMP:20260420T025647
CREATED:20260406T220944Z
LAST-MODIFIED:20260406T220944Z
UID:10001124-1779019200-1779030000@www.thecookerydallas.com
SUMMARY:Pasta Perfecto!
DESCRIPTION:Participants at The Cookery Dallas try their hands at the time-honored tradition of making homemade pastas. They then enjoy the fruits of their labor with an indulgent family-style meal\, complete with a decadent dessert and wine pairings.\n\nFirst Course\nTortellini Stuffed With Arugula Walnut Pesto & Homemade Ricotta + Brown Butter Sauce\n\nSecond Course:\nFresh Dill Fettuccine + Alfredo Sauce\nBowtie Pasta + Lamb Ragu\nItalian Herb Salad | Garlic Bread\n\nThird Course:\nMini Cannoli with Ricotta + Mascarpone + Chocolate Chips\n\nTo Drink:\nProsecco\, Pinot Grigio & Chianti\n\n*This Class Contains Gluten\, Nuts\, & Dairy*
URL:https://www.thecookerydallas.com/event/pasta-perfecto-5-17
LOCATION:The Cookery Dallas\, 1130 Dragon Street Suite 180\, Dallas\, TX\, 75207\, United States
CATEGORIES:International,Pasta
ATTACH;FMTTYPE=image/webp:https://www.thecookerydallas.com/wp-content/uploads/Pasta-Perfecto.webp
END:VEVENT
BEGIN:VEVENT
DTSTART;TZID=America/Chicago:20260521T183000
DTEND;TZID=America/Chicago:20260521T213000
DTSTAMP:20260420T025647
CREATED:20260406T221815Z
LAST-MODIFIED:20260406T221815Z
UID:10001127-1779388200-1779399000@www.thecookerydallas.com
SUMMARY:That's Amore!
DESCRIPTION:When the moon hits your eye...you know the song! Join us for a culinary adventure through Italy and Sicily as we recreate some of the region's most iconic and traditional dishes!\n\nFirst Course:\nItalian Wedding Soup with Mini Beef and Pork Meatballs with Cannellini Beans and Tuscan Kale\n\nSecond Course:\nHandmade Orecchiette Pasta with Pancetta in Vodka Cream Sauce\nHomemade Focaccia Bread with Rosemary and Maldon Salt\nPan-Roasted Broccolini with Lemon\, Parmesan\, and Balsamic Glaze\n\nThird Course:\nMini Tiramisu with Espresso and Sweet Marsala Wine Soaked Lady Fingers\n\nTo Drink:\nAperol Spritz and Italian Wine Pairings
URL:https://www.thecookerydallas.com/event/thats-amore-5-21
LOCATION:The Cookery Dallas\, 1130 Dragon Street Suite 180\, Dallas\, TX\, 75207\, United States
CATEGORIES:International,Pasta
ATTACH;FMTTYPE=image/webp:https://www.thecookerydallas.com/wp-content/uploads/Thats-Amore.webp
END:VEVENT
BEGIN:VEVENT
DTSTART;TZID=America/Chicago:20260522T183000
DTEND;TZID=America/Chicago:20260522T213000
DTSTAMP:20260420T025647
CREATED:20260406T222247Z
LAST-MODIFIED:20260406T222247Z
UID:10001128-1779474600-1779485400@www.thecookerydallas.com
SUMMARY:Chop House
DESCRIPTION:Set the table\, pour a drink\, and settle in. This is comfort food at its most elegant. Chop House brings the warmth of a classic steakhouse dinner into your kitchen. From the first sizzle to the final bite - it’s a feast for the senses!\n\nFirst Course:\nWedge Salad with Herbed Shallot Buttermilk Dressing\, Roasted Heirloom Tomatoes\, Lardons\, and Blue Cheese Crumbles\nGarlic Toast Points\n\nSecond Course:\nBone-In Sweet and Smoky Pork Chop with Caramelized Crust\nSteakhouse Style Mac n' Cheese\nOven Roasted Asparagus\n\nThird Course:\nMini Dark Chocolate Ganache Cake with Fresh Berries\n\nTo Drink:\nRed and White Wine Pairings\, Rum Old Fashioned\n\n*This class contains Dairy\, Gluten*
URL:https://www.thecookerydallas.com/event/chop-house-5-22
LOCATION:The Cookery Dallas\, 1130 Dragon Street Suite 180\, Dallas\, TX\, 75207\, United States
CATEGORIES:International
ATTACH;FMTTYPE=image/jpeg:https://www.thecookerydallas.com/wp-content/uploads/PXL_20250514_184637209-1-scaled.jpg
END:VEVENT
BEGIN:VEVENT
DTSTART;TZID=America/Chicago:20260523T120000
DTEND;TZID=America/Chicago:20260523T150000
DTSTAMP:20260420T025647
CREATED:20260406T221523Z
LAST-MODIFIED:20260406T221523Z
UID:10001126-1779537600-1779548400@www.thecookerydallas.com
SUMMARY:Pasta Perfecto!
DESCRIPTION:Participants at The Cookery Dallas try their hands at the time-honored tradition of making homemade pastas. They then enjoy the fruits of their labor with an indulgent family-style meal\, complete with a decadent dessert and wine pairings.\n\nFirst Course\nTortellini Stuffed With Arugula Walnut Pesto & Homemade Ricotta + Brown Butter Sauce\n\nSecond Course:\nFresh Dill Fettuccine + Alfredo Sauce\nBowtie Pasta + Lamb Ragu\nItalian Herb Salad | Garlic Bread\n\nThird Course:\nMini Cannoli with Ricotta + Mascarpone + Chocolate Chips\n\nTo Drink:\nProsecco\, Pinot Grigio & Chianti\n\n*This Class Contains Gluten\, Nuts\, & Dairy*
URL:https://www.thecookerydallas.com/event/pasta-perfecto-5-23
LOCATION:The Cookery Dallas\, 1130 Dragon Street Suite 180\, Dallas\, TX\, 75207\, United States
CATEGORIES:International,Pasta
ATTACH;FMTTYPE=image/webp:https://www.thecookerydallas.com/wp-content/uploads/Pasta-Perfecto.webp
END:VEVENT
BEGIN:VEVENT
DTSTART;TZID=America/Chicago:20260523T180000
DTEND;TZID=America/Chicago:20260523T210000
DTSTAMP:20260420T025647
CREATED:20260406T222341Z
LAST-MODIFIED:20260406T222341Z
UID:10001129-1779559200-1779570000@www.thecookerydallas.com
SUMMARY:Private Event - This Event Is Guest List Only
DESCRIPTION:Book us for your next special event!  Our 3-hour classes are perfect for your gathering\, and include a private chef-instructor and all the food as you select from one of our menus\, or customize your own.  For more information\, email thecookery@thecookerydallas.com for availability\, details and options.
URL:https://www.thecookerydallas.com/event/private-event-this-event-is-guest-list-only-139
LOCATION:The Cookery Dallas\, 1130 Dragon Street Suite 180\, Dallas\, TX\, 75207\, United States
CATEGORIES:Private Event
ATTACH;FMTTYPE=image/webp:https://www.thecookerydallas.com/wp-content/uploads/cookery-private-event-1.webp
END:VEVENT
BEGIN:VEVENT
DTSTART;TZID=America/Chicago:20260524T120000
DTEND;TZID=America/Chicago:20260524T150000
DTSTAMP:20260420T025647
CREATED:20260406T222655Z
LAST-MODIFIED:20260406T222655Z
UID:10001131-1779624000-1779634800@www.thecookerydallas.com
SUMMARY:Taste of the South
DESCRIPTION:Join us for this delicious comforting brunch where you will learn how to prepare old fashioned southern favorites with a modern twist.\n\nFirst Course:\nBlack-Eyed Pea Salad with Apple Cider Vinaigrette and Cornbread Croutons\nDeviled “Angel” Eggs with Blackened Shrimp\n\nSecond Course:\nButtermilk Fried Chicken\nCreamy Smoked Gouda Grits with Pancetta and Jalapeno\nGreens with Smoked Turkey in "Pot Liquor"\nSouthern Biscuits with Honey Butter\n\nThird Course:\nBanana Pudding Ice Cream with Vanilla Bean Whipped Cream\n\nTo Drink:\nMimosa Bar\, Boozy Peach Tea Cocktail and Coffee\n\n*This Class Contains Dairy\, Gluten\, and Shellfish*
URL:https://www.thecookerydallas.com/event/taste-of-the-south-5-24
LOCATION:The Cookery Dallas\, 1130 Dragon Street Suite 180\, Dallas\, TX\, 75207\, United States
CATEGORIES:American
ATTACH;FMTTYPE=image/jpeg:https://www.thecookerydallas.com/wp-content/uploads/IMG_7494.jpg
END:VEVENT
BEGIN:VEVENT
DTSTART;TZID=America/Chicago:20260524T180000
DTEND;TZID=America/Chicago:20260524T210000
DTSTAMP:20260420T025647
CREATED:20260406T223146Z
LAST-MODIFIED:20260406T223146Z
UID:10001133-1779645600-1779656400@www.thecookerydallas.com
SUMMARY:Evening in Paris
DESCRIPTION:Nothing says “je t’aime” like an evening featuring the rich and sensual flavors of France. The perfect date night\, guests will fall in love with hand-crafted courses from the world’s most romantic country. Ooh la la!\n\nFirst Course:\nMoules Marinières (Garlic and White Wine Steamed Mussels)\nGougères\n\nSecond Course:\nSteak au Poivre + Brandy Cream Reduction\nCrisp Haricot Verts & White Bean Salad + Shallots\, Tarragon & Hazelnuts\nRoasted Fingerling Potatoes + Herbs de Provence\n\nThird Course:\nDark Chocolate Soufflé +Crème Anglaise\n\nTo Drink:\nFrench Red & White Wines\n\n*This class contains Gluten\, Dairy\, and Nuts*
URL:https://www.thecookerydallas.com/event/evening-in-paris-5-24
LOCATION:The Cookery Dallas\, 1130 Dragon Street Suite 180\, Dallas\, TX\, 75207\, United States
CATEGORIES:International
ATTACH;FMTTYPE=image/jpeg:https://www.thecookerydallas.com/wp-content/uploads/evening-in-paris-photo.jpg
END:VEVENT
BEGIN:VEVENT
DTSTART;TZID=America/Chicago:20260526T110000
DTEND;TZID=America/Chicago:20260526T140000
DTSTAMP:20260420T025647
CREATED:20260406T222420Z
LAST-MODIFIED:20260406T222420Z
UID:10001130-1779793200-1779804000@www.thecookerydallas.com
SUMMARY:Private Event - This Event Is Guest List Only
DESCRIPTION:Book us for your next special event!  Our 3-hour classes are perfect for your gathering\, and include a private chef-instructor and all the food as you select from one of our menus\, or customize your own.  For more information\, email thecookery@thecookerydallas.com for availability\, details and options.
URL:https://www.thecookerydallas.com/event/private-event-this-event-is-guest-list-only-140
LOCATION:The Cookery Dallas\, 1130 Dragon Street Suite 180\, Dallas\, TX\, 75207\, United States
CATEGORIES:Private Event
ATTACH;FMTTYPE=image/webp:https://www.thecookerydallas.com/wp-content/uploads/cookery-private-event-1.webp
END:VEVENT
BEGIN:VEVENT
DTSTART;TZID=America/Chicago:20260528T183000
DTEND;TZID=America/Chicago:20260528T213000
DTSTAMP:20260420T025647
CREATED:20260406T222949Z
LAST-MODIFIED:20260406T222949Z
UID:10001132-1779993000-1780003800@www.thecookerydallas.com
SUMMARY:Steakhouse
DESCRIPTION:Join us at The Cookery for a night of steakhouse classics! You're sure to impress your friends and family with these traditional dishes with a twist.\n\nFirst Course:\nScratch Caesar Salad with Homemade Garlic Croutons\n\nSecond Course:\nPan-Seared Steaks with Whole Grain Mustard Sauce\nCreamed Spinach\nDuchess Potatoes\n\nThird Course:\nMini Oreo Cheesecakes with Raspberry Whipped Cream\n\nTo Drink:\nManhattan Cocktail & Wine Pairings\n\n*This class contains Dairy and Gluten*
URL:https://www.thecookerydallas.com/event/steakhouse-5-28
LOCATION:The Cookery Dallas\, 1130 Dragon Street Suite 180\, Dallas\, TX\, 75207\, United States
CATEGORIES:American
ATTACH;FMTTYPE=image/webp:https://www.thecookerydallas.com/wp-content/uploads/Steakhouse.webp
END:VEVENT
BEGIN:VEVENT
DTSTART;TZID=America/Chicago:20260529T183000
DTEND;TZID=America/Chicago:20260529T213000
DTSTAMP:20260420T025647
CREATED:20260406T223427Z
LAST-MODIFIED:20260406T223427Z
UID:10001134-1780079400-1780090200@www.thecookerydallas.com
SUMMARY:Bourbon Street
DESCRIPTION:Join us at The Cookery as we cook our way down Bourbon Street. This Creole menu will get your heart and stomach pounding to the beat of the drums. Laissez les bon temps rouler!\n\nFirst Course:\nSpicy Cajun Crawfish Bread\nNew Orleans Pickled Mirliton Slaw\n\nSecond Course:\nShrimp\, Chicken & Andouille Sausage Jambalaya\nCorn & Pepper Maque Choux\n\nThird Course:\nBananas Foster & Homemade Vanilla Bean Ice Cream\n\nTo Drink:\nHurricane Cocktails & Wine Pairings\n\n*The Class Contains Dairy\, Gluten\, & Shellfish.*
URL:https://www.thecookerydallas.com/event/bourbon-street-5-29
LOCATION:The Cookery Dallas\, 1130 Dragon Street Suite 180\, Dallas\, TX\, 75207\, United States
CATEGORIES:American
ATTACH;FMTTYPE=image/jpeg:https://www.thecookerydallas.com/wp-content/uploads/Bourbon-Street-Jam.jpg
END:VEVENT
BEGIN:VEVENT
DTSTART;TZID=America/Chicago:20260530T120000
DTEND;TZID=America/Chicago:20260530T150000
DTSTAMP:20260420T025647
CREATED:20260406T224047Z
LAST-MODIFIED:20260406T224047Z
UID:10001136-1780142400-1780153200@www.thecookerydallas.com
SUMMARY:Dim Sum
DESCRIPTION:Join us for this fantastic Chinese brunchy-time class. Experience the many exquisite flavors of Cantonese cuisine that will not only awaken your palette\, but have you inspired to invite your friends for a wonderful Dim Sum at your place!\n\nFirst Course:\nShrimp and Bok Choy Wonton Soup\nTiger Salad (Lao Hu Cai)\n\nSecond Course:\nPork and Ginger Pan Fried Dumplings with Soy Ginger Dipping Sauce\nStir Fried Lo Mein Noodles with Beef and Chinese Broccoli (Gai Lan)\nScallion Pancakes with Chili Crunch Oil\n\nThird Course:\nChinese Egg Tarts\n\nTo Drink:\nWine Pairings\n\n*This Class Contains Gluten and Shellfish*
URL:https://www.thecookerydallas.com/event/dim-sum-5-30
LOCATION:The Cookery Dallas\, 1130 Dragon Street Suite 180\, Dallas\, TX\, 75207\, United States
CATEGORIES:International
ATTACH;FMTTYPE=image/webp:https://www.thecookerydallas.com/wp-content/uploads/Dim-Sum.webp
END:VEVENT
BEGIN:VEVENT
DTSTART;TZID=America/Chicago:20260530T180000
DTEND;TZID=America/Chicago:20260530T210000
DTSTAMP:20260420T025647
CREATED:20260406T221137Z
LAST-MODIFIED:20260406T221137Z
UID:10001125-1780164000-1780174800@www.thecookerydallas.com
SUMMARY:Pasta Perfecto!
DESCRIPTION:Participants at The Cookery Dallas try their hands at the time-honored tradition of making homemade pastas. They then enjoy the fruits of their labor with an indulgent family-style meal\, complete with a decadent dessert and wine pairings.\n\nFirst Course\nTortellini Stuffed With Arugula Walnut Pesto & Homemade Ricotta + Brown Butter Sauce\n\nSecond Course:\nFresh Dill Fettuccine + Alfredo Sauce\nBowtie Pasta + Lamb Ragu\nItalian Herb Salad | Garlic Bread\n\nThird Course:\nMini Cannoli with Ricotta + Mascarpone + Chocolate Chips\n\nTo Drink:\nProsecco\, Pinot Grigio & Chianti\n\n*This Class Contains Gluten\, Nuts\, & Dairy*
URL:https://www.thecookerydallas.com/event/pasta-perfecto-5-30
LOCATION:The Cookery Dallas\, 1130 Dragon Street Suite 180\, Dallas\, TX\, 75207\, United States
CATEGORIES:International,Pasta
ATTACH;FMTTYPE=image/webp:https://www.thecookerydallas.com/wp-content/uploads/Pasta-Perfecto.webp
END:VEVENT
BEGIN:VEVENT
DTSTART;TZID=America/Chicago:20260531T120000
DTEND;TZID=America/Chicago:20260531T150000
DTSTAMP:20260420T025647
CREATED:20260406T223648Z
LAST-MODIFIED:20260406T223648Z
UID:10001135-1780228800-1780239600@www.thecookerydallas.com
SUMMARY:Best of Brunch
DESCRIPTION:Sweet and savory dishes abound alongside champagne cocktails in this exciting offering dedicated to everyone's favorite weekend activity - brunch!\n\nFirst Course:\nRoasted Vegetable Tart with Caramelized Onions & Balsamic Reduction\nHomemade Romesco Sauce\n\nSecond Course:\nOven Poached Ham & Sweet Potato Hash Egg Nests with Spicy Lemon Hollandaise\nBlueberry Buttermilk Scones\nSeasonal Greens Salad with Sherry Shallot Vinaigrette\n\nThird Course:\nHomemade Mini Donuts with Vanilla Bean Glaze\n\nTo Drink:\nMimosa Bar\, Vinho Verde & Coffee\n\n*This Class Contains Gluten & Dairy*
URL:https://www.thecookerydallas.com/event/best-of-brunch-5-31
LOCATION:The Cookery Dallas\, 1130 Dragon Street Suite 180\, Dallas\, TX\, 75207\, United States
CATEGORIES:American
ATTACH;FMTTYPE=image/webp:https://www.thecookerydallas.com/wp-content/uploads/Best-of-Brunch.webp
END:VEVENT
BEGIN:VEVENT
DTSTART;TZID=America/Chicago:20260531T180000
DTEND;TZID=America/Chicago:20260531T210000
DTSTAMP:20260420T025647
CREATED:20260406T224506Z
LAST-MODIFIED:20260406T224506Z
UID:10001137-1780250400-1780261200@www.thecookerydallas.com
SUMMARY:Elegant Dinner Party
DESCRIPTION:Dazzle your friends and loved ones with this comforting menu from The Cookery. You will learn how to make these rich and elegant dishes\, and partake in the dinner party along the way!\n\nFirst Course:\nBitter Greens Salad with Persimmons\, Pears & Caramelized Pecans\nMeyer Lemon Goat Cheese Crostini\n\nSecond Course:\nBraised Beef Short Ribs + Port Reduction & Gremolata\nCreamy Herbed Polenta\nSautéed Smoky Brussels Sprouts + Pancetta & Shallots\n\nThird Course:\nDark Chocolate Pots de Crème & Vanilla Chantilly Cream\n\nTo Drink:\nRed & White Wine Pairings'\n\n*This class contains Dairy\, Nuts\, and Gluten*
URL:https://www.thecookerydallas.com/event/elegant-dinner-party-5-31
LOCATION:The Cookery Dallas\, 1130 Dragon Street Suite 180\, Dallas\, TX\, 75207\, United States
CATEGORIES:American
ATTACH;FMTTYPE=image/webp:https://www.thecookerydallas.com/wp-content/uploads/Elegant-Dinner-Party.webp
END:VEVENT
END:VCALENDAR